BEGIN:VCALENDAR
VERSION:2.0
PRODID:-//training.adpi.or.id - ECPv6.15.5//NONSGML v1.0//EN
CALSCALE:GREGORIAN
METHOD:PUBLISH
X-WR-CALNAME:training.adpi.or.id
X-ORIGINAL-URL:https://training.adpi.or.id
X-WR-CALDESC:Events for training.adpi.or.id
REFRESH-INTERVAL;VALUE=DURATION:PT1H
X-Robots-Tag:noindex
X-PUBLISHED-TTL:PT1H
BEGIN:VTIMEZONE
TZID:Asia/Jakarta
BEGIN:STANDARD
TZOFFSETFROM:+0700
TZOFFSETTO:+0700
TZNAME:WIB
DTSTART:20260101T000000
END:STANDARD
END:VTIMEZONE
BEGIN:VEVENT
DTSTART;TZID=Asia/Jakarta:20260617T090000
DTEND;TZID=Asia/Jakarta:20260618T160000
DTSTAMP:20260419T222337
CREATED:20260311T072612Z
LAST-MODIFIED:20260311T072612Z
UID:630-1781686800-1781798400@training.adpi.or.id
SUMMARY:Penyusunan Pedoman Manajemen Resiko – Juni 2026
DESCRIPTION:PENDAHULUAN \nDengan diterbitkannya Undang-undang No. 4 Tahun 2023\, tentang Pengembangan dan Penguatan Sektor Jasa Keuangan (UU P2SK)\, mendorong stakeholder Dana Pensiun untuk lebih mengembangkan pemahaman dan pengetahuan terkait dengan regulasi-regulasi terkini serta pengelolaan Dana Pensiun yang baik dengan memperhatikan risiko yang ada. Hal ini selaras dengan pengembangan Industri Dana Pensiun yang diharapkan semakin maju dengan didukung oleh SDM Dana Pensiun yang berkualitas. \nPelatihan ini dirancang untuk membekali peserta dengan pengetahuan terkait tentang Manajemen Risiko Dana Pensiun\, diharapkan peserta dapat mengelola risiko Dana Pensiun sesuai dengan regulasi terkini. \nSASARAN PESERTA \n\nPengurus dan Calon Pengurus Dana Pensiun.\nPengawas dan Calon Pengawas Dana Pensiun.\nStaf dan Pegawai Dana Pensiun yang menangani lnvestasi Dana Pensiun.\nPeserta yang pernah mengikuti Pelatihan Manajemen Umurn Dana Pensiun.\n\nInformasi Pelatihan\n🕒 **Durasi**: 2 Hari\n💰 **Biaya**: 4.000.00\n📜 **Jenis**: Non Sertifikasi \n— \nWaktu dan Tempat\n🗓 **Tanggal**:  17-18 Juni 2026\n⏰ **Waktu**: 09.00 – 16.00 WIB\n📍 **Lokasi**: Wisma 46 Kota BNI\, Jl. Jenderal Sudirman Kav. 1 Jakarta Pusat \n\nDAFTAR SEKARANG
URL:https://training.adpi.or.id/event/penyusunan-pedoman-manajemen-resiko-juni-2026/
LOCATION:ADPI\, Wisma 46 - Kota BNI\, Jl. Jenderal Sudirman No.Kav. 1 Lantai 3 Suite 3.05\, Karet Tengsin\, Tanah Abang\, Jakarta Pusat\, Jakarta\, Jakarta\, 10220\, Indonesia
CATEGORIES:Workshop & Diklat
ATTACH;FMTTYPE=image/jpeg:https://training.adpi.or.id/wp-content/uploads/2025/09/2157.jpg
ORGANIZER;CN="ADPI":MAILTO:diklat@adpi.or.id
END:VEVENT
END:VCALENDAR