BEGIN:VCALENDAR
VERSION:2.0
PRODID:-//training.adpi.or.id - ECPv6.15.5//NONSGML v1.0//EN
CALSCALE:GREGORIAN
METHOD:PUBLISH
X-ORIGINAL-URL:https://training.adpi.or.id
X-WR-CALDESC:Events for training.adpi.or.id
REFRESH-INTERVAL;VALUE=DURATION:PT1H
X-Robots-Tag:noindex
X-PUBLISHED-TTL:PT1H
BEGIN:VTIMEZONE
TZID:Asia/Jakarta
BEGIN:STANDARD
TZOFFSETFROM:+0700
TZOFFSETTO:+0700
TZNAME:WIB
DTSTART:20260101T000000
END:STANDARD
END:VTIMEZONE
BEGIN:VEVENT
DTSTART;TZID=Asia/Jakarta:20260414T090000
DTEND;TZID=Asia/Jakarta:20260415T160000
DTSTAMP:20260419T224812
CREATED:20260311T071214Z
LAST-MODIFIED:20260311T071214Z
UID:626-1776157200-1776268800@training.adpi.or.id
SUMMARY:Internal Audit Dana Pensiun – April 2026
DESCRIPTION:PENDAHULUAN \nsesuai dengan ketentuan yang berlaku dimana pengawasan Dana Pensiun harus dilakukan secara benar dan efektif\, yaitu pada POJK No 15/POJK.05/2019 tentang Tata Kelola Dana Pensiun dimana dinyatakan bahwa pengawasan internal Dana Pensiun dilakukan pada seluruh jenjang organisasi\, dan ditambah dengan kewajiban membentuk fungsi pengendalian risiko dan komite audit internal pada struktur organisasi yang ada pada Dana Pensiun. Hal ini memperlihatkan bahwa pengawasan menjadi hal yang sangat penting dalam pengelolaan Dana Pensiun agar pengelolaan Dana Pensiun dapat berjalan sesuai dengan ketentuan yang berlaku. \nDalam pelatihan ini akan disampaikan informasi dan materi terkait dengan konsep dasar pelaksaaan audit internal yang bertujuan agar Dana Pensiun dapat menerapkan prinsip tata kelola dengan baik. \nSASARAN PESERTA \n\nPengawas Dana Pensiun\nPengurus Dana Pensiun.\nStaf dan Pegawai Dana Pensiun yang memberi support kepada Dewan Pengawas\n\nInformasi Pelatihan\n🕒 **Durasi**: 2 Hari\n💰 **Biaya**: 4.000.00\n📜 **Jenis**: Non Sertifikasi \n— \nWaktu dan Tempat\n🗓 **Tanggal**:  14-15 April 2026\n⏰ **Waktu**: 09.00 – 16.00 WIB\n📍 **Lokasi**: Wisma 46 Kota BNI\, Jl. Jenderal Sudirman Kav. 1 Jakarta Pusat \n\nDAFTAR SEKARANG
URL:https://training.adpi.or.id/event/internal-audit-dana-pensiun-april-2026/
LOCATION:ADPI\, Wisma 46 - Kota BNI\, Jl. Jenderal Sudirman No.Kav. 1 Lantai 3 Suite 3.05\, Karet Tengsin\, Tanah Abang\, Jakarta Pusat\, Jakarta\, Jakarta\, 10220\, Indonesia
CATEGORIES:Workshop & Diklat
ATTACH;FMTTYPE=image/jpeg:https://training.adpi.or.id/wp-content/uploads/2025/09/2157.jpg
ORGANIZER;CN="ADPI":MAILTO:diklat@adpi.or.id
END:VEVENT
END:VCALENDAR