BEGIN:VCALENDAR
VERSION:2.0
PRODID:-//training.adpi.or.id - ECPv6.15.5//NONSGML v1.0//EN
CALSCALE:GREGORIAN
METHOD:PUBLISH
X-ORIGINAL-URL:https://training.adpi.or.id
X-WR-CALDESC:Events for training.adpi.or.id
REFRESH-INTERVAL;VALUE=DURATION:PT1H
X-Robots-Tag:noindex
X-PUBLISHED-TTL:PT1H
BEGIN:VTIMEZONE
TZID:Asia/Jakarta
BEGIN:STANDARD
TZOFFSETFROM:+0700
TZOFFSETTO:+0700
TZNAME:WIB
DTSTART:20260101T000000
END:STANDARD
END:VTIMEZONE
BEGIN:VEVENT
DTSTART;TZID=Asia/Jakarta:20260428T090000
DTEND;TZID=Asia/Jakarta:20260429T160000
DTSTAMP:20260419T224834
CREATED:20260311T044802Z
LAST-MODIFIED:20260311T044802Z
UID:606-1777366800-1777478400@training.adpi.or.id
SUMMARY:Akuntansi dan Perpajakan Dana Pensiun – April 2026
DESCRIPTION:PENDAHULUAN \nPelatihan ini dirancang untuk membekali peserta tentang Akuntansi & perpajakan Dana Pensiun sebagai pengetahuan dasar agar dapat mengelola akuntansi dan perpajakan Dana Pensiun sesuai dengan regulasi tersebut. \nSASARAN PESERTA \n\nPengurus Dana Pensiun\nPengawas dan Calon Pengawas Dana Pensiun\nStaf dan Pegawai Dana Pensiun yang menangani Keuangan / Akuntansi\nPengamat\, Akademisi\, dan Praktisi Dana Pensiun.\n\nInformasi Pelatihan\n🕒 **Durasi**: 2 Hari\n💰 **Biaya**: 4.000.00\n📜 **Jenis**: Non Sertifikasi \n— \nWaktu dan Tempat\n🗓 **Tanggal**:  28-29 April 2026\n⏰ **Waktu**: 09.00 – 16.00 WIB\n📍 **Lokasi**: Wisma 46 Kota BNI\, Jl. Jenderal Sudirman Kav. 1 Jakarta Pusat \n\nDAFTAR SEKARANG
URL:https://training.adpi.or.id/event/akuntansi-dan-perpajakan-dana-pensiun-april-2026/
LOCATION:ADPI\, Wisma 46 - Kota BNI\, Jl. Jenderal Sudirman No.Kav. 1 Lantai 3 Suite 3.05\, Karet Tengsin\, Tanah Abang\, Jakarta Pusat\, Jakarta\, Jakarta\, 10220\, Indonesia
CATEGORIES:Workshop & Diklat
ATTACH;FMTTYPE=image/jpeg:https://training.adpi.or.id/wp-content/uploads/2025/09/2157.jpg
ORGANIZER;CN="ADPI":MAILTO:diklat@adpi.or.id
END:VEVENT
END:VCALENDAR