BEGIN:VCALENDAR
VERSION:2.0
PRODID:-//training.adpi.or.id - ECPv6.15.5//NONSGML v1.0//EN
CALSCALE:GREGORIAN
METHOD:PUBLISH
X-ORIGINAL-URL:https://training.adpi.or.id
X-WR-CALDESC:Events for training.adpi.or.id
REFRESH-INTERVAL;VALUE=DURATION:PT1H
X-Robots-Tag:noindex
X-PUBLISHED-TTL:PT1H
BEGIN:VTIMEZONE
TZID:Asia/Jakarta
BEGIN:STANDARD
TZOFFSETFROM:+0700
TZOFFSETTO:+0700
TZNAME:WIB
DTSTART:20260101T000000
END:STANDARD
END:VTIMEZONE
BEGIN:VEVENT
DTSTART;TZID=Asia/Jakarta:20261110T090000
DTEND;TZID=Asia/Jakarta:20261111T160000
DTSTAMP:20260420T111244
CREATED:20260311T031653Z
LAST-MODIFIED:20260311T031653Z
UID:579-1794301200-1794412800@training.adpi.or.id
SUMMARY:KKNI Jenjang 5 Bidang Dana Pensiun – November 2026
DESCRIPTION:PENDAHULUAN \nSesuai dengan ketentuan Surat Edaran OJK Nomor KEP-2/D.02/2024 tanggal 3 Januari 2024 tentang Kerangka Kualifikasi Nasional Indonesia Bidang Dana Pensiun mengatur tentang kewajiban bagi setiap insan dana pensiun wajib memiliki sertifikat kompetensi bidang dana pensiun sesuai dengan jenjang kerja masing-masing. Hal ini menjadi konsen OJK dalam meningkatkan kompetensi dalam pengelolaan Dana Pensiun agar pengelolaan Dana Pensiun aman\, maksimal dan sesuai dengan ketentuan yang berlaku. \nKualifikasi ini mencakup kemampuan untuk merencanakan dan mengelola sumber daya Dana Pensiun di bawah tanggung jawabnya\, serta melakukan riset dan mengambil keputusan strategis dengan akuntabilitas dan tanggung jawab penuh atas semua aspek Dana Pensiun yang berada di bawah tanggung jawab bidang keahliannya. Selain itu\, memiliki kemampuan untuk mengidentifikasi dan menganalisis data dan informasi sehingga berbagai alternatif strategi Dana Pensiun dapat disusun dan ditentukan sesuai tujuan Dana Pensiun\, serta implementasi internalisasi budaya kerja dan evaluasinya dapat terlaksana sesuai prosedur. \nSelanjutnya\, kemampuan lainnya yakni mengolah dan menerjemahkan informasi sehingga berbagai proses\, seperti tindak lanjut perhitungan aktuaria\, perancangan strategi investasi\, evaluasi kinerja investasi\, kebijakan tata kelola\, serta pengelolaan sumber daya manusia dan perumusan strategi dan kebijakan manajemen sumber daya manusia dapat terlaksana sesuai kebutuhan Dana Pensiun dan mengikuti peraturan yang berlaku. Selanjutnya\, kemampuan yang dibutuhkan yakni bekerja sama dan melakukan komunikasi dengan berbagai pihak\, baik internal maupun eksternal\, dalam penyusunan laporan Dana Pensiun sehingga laporan yang dihasilkan sesuai ketentuan dan kebutuhan Dana Pensiun. \nSASARAN PESERTA \n\nDirektur Utama\,\nDirektur Investasi\,\nDirektur Keuangan\,\nDirektur Kepensiunan dan Umum\,\nDirektur Sumber Daya Manusia\, serta\nDirektur Operasi.\n\n  \nInformasi Pelatihan\n🕒 **Durasi**: 2 Hari\n💰 **Biaya**: 3.500.00\n📜 **Jenis**: Sertifikasi \n— \nWaktu dan Tempat\n🗓 **Tanggal**:  10-11 November 2026\n⏰ **Waktu**: 09.00 – 16.00 WIB\n📍 **Lokasi**: Wisma 46 Kota BNI\, Jl. Jenderal Sudirman Kav. 1 Jakarta Pusat \n\nDAFTAR SEKARANG
URL:https://training.adpi.or.id/event/kkni-jenjang-5-bidang-dana-pensiun-november-2026/
LOCATION:ADPI\, Wisma 46 - Kota BNI\, Jl. Jenderal Sudirman No.Kav. 1 Lantai 3 Suite 3.05\, Karet Tengsin\, Tanah Abang\, Jakarta Pusat\, Jakarta\, Jakarta\, 10220\, Indonesia
CATEGORIES:Workshop & Diklat
ATTACH;FMTTYPE=image/jpeg:https://training.adpi.or.id/wp-content/uploads/2025/09/2157.jpg
ORGANIZER;CN="ADPI":MAILTO:diklat@adpi.or.id
END:VEVENT
BEGIN:VEVENT
DTSTART;TZID=Asia/Jakarta:20261117T090000
DTEND;TZID=Asia/Jakarta:20261118T160000
DTSTAMP:20260420T111244
CREATED:20260304T022323Z
LAST-MODIFIED:20260304T022323Z
UID:535-1794906000-1795017600@training.adpi.or.id
SUMMARY:KKNI Jenjang 7 Bidang Dana Pensiun – November 2026
DESCRIPTION:PENDAHULUAN \nSesuai dengan ketentuan Surat Edaran OJK Nomor KEP-2/D.02/2024 tanggal 3 Januari 2024 tentang Kerangka Kualifikasi Nasional Indonesia Bidang Dana Pensiun mengatur tentang kewajiban bagi setiap insan dana pensiun wajib memiliki sertifikat kompetensi bidang dana pensiun sesuai dengan jenjang kerja masing-masing. Hal ini menjadi konsen OJK dalam meningkatkan kompetensi dalam pengelolaan Dana Pensiun agar pengelolaan Dana Pensiun aman\, maksimal dan sesuai dengan ketentuan yang berlaku. \nKualifikasi ini mencakup kemampuan untuk merencanakan dan mengelola sumber daya Dana Pensiun di bawah tanggung jawabnya\, serta melakukan riset dan mengambil keputusan strategis dengan akuntabilitas dan tanggung jawab penuh atas semua aspek Dana Pensiun yang berada di bawah tanggung jawab bidang keahliannya. Selain itu\, memiliki kemampuan untuk mengidentifikasi dan menganalisis data dan informasi sehingga berbagai alternatif strategi Dana Pensiun dapat disusun dan ditentukan sesuai tujuan Dana Pensiun\, serta implementasi internalisasi budaya kerja dan evaluasinya dapat terlaksana sesuai prosedur. \nSelanjutnya\, kemampuan lainnya yakni mengolah dan menerjemahkan informasi sehingga berbagai proses\, seperti tindak lanjut perhitungan aktuaria\, perancangan strategi investasi\, evaluasi kinerja investasi\, kebijakan tata kelola\, serta pengelolaan sumber daya manusia dan perumusan strategi dan kebijakan manajemen sumber daya manusia dapat terlaksana sesuai kebutuhan Dana Pensiun dan mengikuti peraturan yang berlaku. Selanjutnya\, kemampuan yang dibutuhkan yakni bekerja sama dan melakukan komunikasi dengan berbagai pihak\, baik internal maupun eksternal\, dalam penyusunan laporan Dana Pensiun sehingga laporan yang dihasilkan sesuai ketentuan dan kebutuhan Dana Pensiun. \nSASARAN PESERTA \n\nDirektur Utama\,\nDirektur Investasi\,\nDirektur Keuangan\,\nDirektur Kepensiunan dan Umum\,\nDirektur Sumber Daya Manusia\, serta\nDirektur Operasi.\n\n  \nInformasi Pelatihan\n🕒 **Durasi**: 2 Hari\n💰 **Biaya**: 4.500.00\n📜 **Jenis**: Sertifikasi \n— \nWaktu dan Tempat\n🗓 **Tanggal**:  17-18 November 2026\n⏰ **Waktu**: 09.00 – 16.00 WIB\n📍 **Lokasi**: Wisma 46 Kota BNI\, Jl. Jenderal Sudirman Kav. 1 Jakarta Pusat \n\nDAFTAR SEKARANG
URL:https://training.adpi.or.id/event/kkni-jenjang-7-bidang-dana-pensiun-november-2026/
LOCATION:ADPI\, Wisma 46 - Kota BNI\, Jl. Jenderal Sudirman No.Kav. 1 Lantai 3 Suite 3.05\, Karet Tengsin\, Tanah Abang\, Jakarta Pusat\, Jakarta\, Jakarta\, 10220\, Indonesia
CATEGORIES:Workshop & Diklat
ATTACH;FMTTYPE=image/jpeg:https://training.adpi.or.id/wp-content/uploads/2025/09/2157.jpg
ORGANIZER;CN="ADPI":MAILTO:diklat@adpi.or.id
END:VEVENT
BEGIN:VEVENT
DTSTART;TZID=Asia/Jakarta:20261119T090000
DTEND;TZID=Asia/Jakarta:20261120T160000
DTSTAMP:20260420T111244
CREATED:20260304T034905Z
LAST-MODIFIED:20260304T034905Z
UID:561-1795078800-1795190400@training.adpi.or.id
SUMMARY:KKNI Jenjang 6C Bidang Dana Pensiun  Sub Bidang Pengawasan Dana Pensiun - November 2026
DESCRIPTION:sesuai dengan ketentuan Surat Edaran OJK Nomor KEP-2/D.02/2024 tanggal 3 Januari 2024 tentang Kerangka Kualifikasi Nasional Indonesia Bidang Dana Pensiun mengatur tentang kewajiban bagi setiap insan dana pensiun wajib memiliki sertifikat kompetensi bidang dana pensiun sesuai dengan jenjang kerja masing-masing. Hal ini menjadi konsen OJK dalam meningkatkan kompetensi dalam pengelolaan Dana Pensiun agar pengelolaan Dana Pensiun aman\, maksimal dan sesuai dengan ketentuan yang berlaku. \nKualifikasi ini mencakup kemampuan dalam mengaplikasikan bidang keahlian dan memanfaatkan ilmu pengetahuan\, teknologi\, dan/atau seni pada Dana Pensiun secara umum dalam penyelesaian masalah; mampu beradaptasi terhadap situasi yang dihadapi; serta menguasai konsep teoretis di bidang Dana Pensiun secara umum dan konsep teoretis bagian khusus dalam bidang Dana Pensiun secara mendalam. Selain itu\, memiliki kemampuan untuk mengidentifikasi dan menganalisis data dan informasi\, sehingga kinerja investasi dapat dievaluasi sesuai kebutuhan\, serta pengendalian dan pengelolaan tata kelola dapat terlaksana sesuai ketentuan. Selanjutnya\, kemampuan lainnya yakni mengolah dan menerjemahkan informasi sehingga rencana audit tahunan dapat disusun sesuai kebutuhan\, tindak lanjut hasil audit dapat diimplementasikan sesuai prosedur\, serta laporan Dana Pensiun dapat diinterpretasikan dengan baik dan benar. \nSASARAN PESERTA \n\nDewan Pengawas\nCalon Dewan Pengawas\n\n  \nTEMPAT \nWisma 46 Kota BNI\, Jl. Jenderal Sudirman Kav. 1 Jakarta Pusat \nInformasi Pelatihan\n🕒 **Durasi**: 2 Hari\n💰 **Investasi**: 4.000.000\n📜 **Jenis**: Sertifikasi \n— \nWaktu dan Tempat\n🗓 **Tanggal**:  19-20 November 2026\n⏰ **Waktu**: 09.00 – 16.00 WIB\n📍 **Lokasi**: Wisma 46 Kota BNI\, Jl. Jenderal Sudirman Kav. 1 Jakarta Pusat \n\nDAFTAR SEKARANG
URL:https://training.adpi.or.id/event/kkni-jenjang-6c-bidang-dana-pensiun-sub-bidang-pengawasan-dana-pensiun-november-2026/
LOCATION:ADPI\, Wisma 46 - Kota BNI\, Jl. Jenderal Sudirman No.Kav. 1 Lantai 3 Suite 3.05\, Karet Tengsin\, Tanah Abang\, Jakarta Pusat\, Jakarta\, Jakarta\, 10220\, Indonesia
CATEGORIES:Workshop & Diklat
ATTACH;FMTTYPE=image/jpeg:https://training.adpi.or.id/wp-content/uploads/2025/09/7120.jpg
ORGANIZER;CN="ADPI":MAILTO:diklat@adpi.or.id
END:VEVENT
BEGIN:VEVENT
DTSTART;TZID=Asia/Jakarta:20261124T090000
DTEND;TZID=Asia/Jakarta:20261125T160000
DTSTAMP:20260420T111244
CREATED:20260311T065101Z
LAST-MODIFIED:20260311T065101Z
UID:620-1795510800-1795622400@training.adpi.or.id
SUMMARY:Manajemen Teknologi Informasi Dana Pensiun – November 2026
DESCRIPTION:PENDAHULUAN \nSesuai dengan perkembangan informasi secara digital yang semakin pesat\, dan adanya ketentuan terkait dengan kebijakan dan prosedur teknologi. Selain itu adanya ketentuan terkait dengan Teknologi lnformasi Dana Pensiun yaitu P0JK No. 4/POJK.05/2021 tentang Penerapan Manajemen Risiko Dalam Penggunaan Teknologi lnformasi Oleh Lembaga Jasa Keuangan Non-Bank yang intinya mengatur mengenai manajemen risiko dalam penggunaan teknologi informasi (MRTI) dimana salah satunya mengatur kewajiban LJKNB untuk memiliki kebijakan dan prosedur penggunaan teknologi informasi meliputi beberapa aspek\, misalkan aspek manajemen\, aspek pengembangan dan pengadaan dan beberapa aspek lainnya. Hal ini memperlihatkan bahwa perkembangan Teknologi lnformasi khususnya pada dana pensiun menjadi hal yang sangat penting dalam pengelolaan dana pensiun\, salah satu tujuannya adalah dapat meningkatkan produktivitas dan bisnis Lembaga Jasa Keuangan Nonbank (LJKNB). Dalam workshop ini akan disampaikan informasi dan materi yang dapat memberikan pemahaman serta penerapan terkait ketentuan\, pengelolaan sistem teknologi informasi dana pensiun. \nSASARAN PESERTA \n\nPengurus dan calon pengurus Dana Pensiun yang membawahi bidang Tl\nPegawai Dana Pensiun\n\nInformasi Pelatihan\n🕒 **Durasi**: 2 Hari\n💰 **Biaya**: 4.000.00\n📜 **Jenis**: Non Sertifikasi \n— \nWaktu dan Tempat\n🗓 **Tanggal**:  24-25 November 2026\n⏰ **Waktu**: 09.00 – 16.00 WIB\n📍 **Lokasi**: Wisma 46 Kota BNI\, Jl. Jenderal Sudirman Kav. 1 Jakarta Pusat \n\nDAFTAR SEKARANG
URL:https://training.adpi.or.id/event/manajemen-teknologi-informasi-dana-pensiun-november-2026/
LOCATION:ADPI\, Wisma 46 - Kota BNI\, Jl. Jenderal Sudirman No.Kav. 1 Lantai 3 Suite 3.05\, Karet Tengsin\, Tanah Abang\, Jakarta Pusat\, Jakarta\, Jakarta\, 10220\, Indonesia
CATEGORIES:Workshop & Diklat
ATTACH;FMTTYPE=image/jpeg:https://training.adpi.or.id/wp-content/uploads/2025/09/2157.jpg
ORGANIZER;CN="ADPI":MAILTO:diklat@adpi.or.id
END:VEVENT
BEGIN:VEVENT
DTSTART;TZID=Asia/Jakarta:20261125T090000
DTEND;TZID=Asia/Jakarta:20261126T160000
DTSTAMP:20260420T111244
CREATED:20260311T073715Z
LAST-MODIFIED:20260311T073715Z
UID:632-1795597200-1795708800@training.adpi.or.id
SUMMARY:Penyusunan Pedoman Manajemen Resiko – November 2026
DESCRIPTION:PENDAHULUAN \nDengan diterbitkannya Undang-undang No. 4 Tahun 2023\, tentang Pengembangan dan Penguatan Sektor Jasa Keuangan (UU P2SK)\, mendorong stakeholder Dana Pensiun untuk lebih mengembangkan pemahaman dan pengetahuan terkait dengan regulasi-regulasi terkini serta pengelolaan Dana Pensiun yang baik dengan memperhatikan risiko yang ada. Hal ini selaras dengan pengembangan Industri Dana Pensiun yang diharapkan semakin maju dengan didukung oleh SDM Dana Pensiun yang berkualitas. \nPelatihan ini dirancang untuk membekali peserta dengan pengetahuan terkait tentang Manajemen Risiko Dana Pensiun\, diharapkan peserta dapat mengelola risiko Dana Pensiun sesuai dengan regulasi terkini. \nSASARAN PESERTA \n\nPengurus dan Calon Pengurus Dana Pensiun.\nPengawas dan Calon Pengawas Dana Pensiun.\nStaf dan Pegawai Dana Pensiun yang menangani lnvestasi Dana Pensiun.\nPeserta yang pernah mengikuti Pelatihan Manajemen Umurn Dana Pensiun.\n\nInformasi Pelatihan\n🕒 **Durasi**: 2 Hari\n💰 **Biaya**: 4.000.00\n📜 **Jenis**: Non Sertifikasi \n— \nWaktu dan Tempat\n🗓 **Tanggal**:  25-26 November 2026\n⏰ **Waktu**: 09.00 – 16.00 WIB\n📍 **Lokasi**: Wisma 46 Kota BNI\, Jl. Jenderal Sudirman Kav. 1 Jakarta Pusat \n\nDAFTAR SEKARANG
URL:https://training.adpi.or.id/event/penyusunan-pedoman-manajemen-resiko-november-2026/
LOCATION:ADPI\, Wisma 46 - Kota BNI\, Jl. Jenderal Sudirman No.Kav. 1 Lantai 3 Suite 3.05\, Karet Tengsin\, Tanah Abang\, Jakarta Pusat\, Jakarta\, Jakarta\, 10220\, Indonesia
CATEGORIES:Workshop & Diklat
ATTACH;FMTTYPE=image/jpeg:https://training.adpi.or.id/wp-content/uploads/2025/09/2157.jpg
ORGANIZER;CN="ADPI":MAILTO:diklat@adpi.or.id
END:VEVENT
BEGIN:VEVENT
DTSTART;TZID=Asia/Jakarta:20261201T090000
DTEND;TZID=Asia/Jakarta:20261203T160000
DTSTAMP:20260420T111244
CREATED:20260311T043348Z
LAST-MODIFIED:20260311T043348Z
UID:598-1796115600-1796313600@training.adpi.or.id
SUMMARY:Manajemen Umum Dana Pensiun – Desember 2026
DESCRIPTION:PENDAHULUAN \nDengan diterbitkannya Undang-undang No. 4 Tahun 2023\, tentang Pengembangan dan Penguatan Sektor Jasa Keuangan (UU P2SK)\, mendorong stakeholder Dana Pensiun untuk lebih mengembangkan pemahaman dan pengetahuan terkait dengan regulasi-regulasi terkini serta pengelolaan Dana Pensiun yang baik dengan memperhatikan risiko yang ada. Hal ini selaras dengan pengembangan Industri Dana Pensiun yang diharapkan semakin maju dengan didukung oleh SDM Dana Pensiun yang berkualitas. \nPada Pelatihan ini Perkumpulan ADPI memberikan materi terkait Peraturan perundangan yang berlaku\, dan hal-hal lain yang terkait dengan pengelolaan Dana Pensiun antara lain pengetahuan mengenai disain dana pensiun\, pengetahuan mengenai akuntabilitas dana pensiun\, pengetahuan mengenai manajemen & tata kelola dana pensiun. . Pelatihan ini dirancang untuk membekali peserta tentang pengetahuan dasar Dana Pensiun agar peserta paham terkait dengan pengelolaan Dana Pensiun sesuai dengan maksud dan tujuan Dana Pensiun tersebut. \nSASARAN PESERTA \n\nPengurus dan Calon Pengurus Dana Pensiun\nPengawas dan Calon Pengawas Dana Pensiun\nStaf dan Pegawai Dana Pensiun\nPeserta yang berminat mengetahui tentang Dana Pensiun\n\nInformasi Pelatihan\n🕒 **Durasi**: 3 Hari\n💰 **Biaya**: 5.500.00\n📜 **Jenis**: Non Sertifikasi \n— \nWaktu dan Tempat\n🗓 **Tanggal**:  1-3 Desember 2026\n⏰ **Waktu**: 09.00 – 16.00 WIB\n📍 **Lokasi**: Wisma 46 Kota BNI\, Jl. Jenderal Sudirman Kav. 1 Jakarta Pusat \n\nDAFTAR SEKARANG
URL:https://training.adpi.or.id/event/manajemen-umum-dana-pensiun-desember-2026/
LOCATION:ADPI\, Wisma 46 - Kota BNI\, Jl. Jenderal Sudirman No.Kav. 1 Lantai 3 Suite 3.05\, Karet Tengsin\, Tanah Abang\, Jakarta Pusat\, Jakarta\, Jakarta\, 10220\, Indonesia
CATEGORIES:Workshop & Diklat
ATTACH;FMTTYPE=image/jpeg:https://training.adpi.or.id/wp-content/uploads/2025/09/2157.jpg
ORGANIZER;CN="ADPI":MAILTO:diklat@adpi.or.id
END:VEVENT
BEGIN:VEVENT
DTSTART;TZID=Asia/Jakarta:20261215T090000
DTEND;TZID=Asia/Jakarta:20261216T160000
DTSTAMP:20260420T111244
CREATED:20260304T023357Z
LAST-MODIFIED:20260304T023420Z
UID:537-1797325200-1797436800@training.adpi.or.id
SUMMARY:KKNI Jenjang 7 Bidang Dana Pensiun – Desember 2026
DESCRIPTION:PENDAHULUAN \nSesuai dengan ketentuan Surat Edaran OJK Nomor KEP-2/D.02/2024 tanggal 3 Januari 2024 tentang Kerangka Kualifikasi Nasional Indonesia Bidang Dana Pensiun mengatur tentang kewajiban bagi setiap insan dana pensiun wajib memiliki sertifikat kompetensi bidang dana pensiun sesuai dengan jenjang kerja masing-masing. Hal ini menjadi konsen OJK dalam meningkatkan kompetensi dalam pengelolaan Dana Pensiun agar pengelolaan Dana Pensiun aman\, maksimal dan sesuai dengan ketentuan yang berlaku. \nKualifikasi ini mencakup kemampuan untuk merencanakan dan mengelola sumber daya Dana Pensiun di bawah tanggung jawabnya\, serta melakukan riset dan mengambil keputusan strategis dengan akuntabilitas dan tanggung jawab penuh atas semua aspek Dana Pensiun yang berada di bawah tanggung jawab bidang keahliannya. Selain itu\, memiliki kemampuan untuk mengidentifikasi dan menganalisis data dan informasi sehingga berbagai alternatif strategi Dana Pensiun dapat disusun dan ditentukan sesuai tujuan Dana Pensiun\, serta implementasi internalisasi budaya kerja dan evaluasinya dapat terlaksana sesuai prosedur. \nSelanjutnya\, kemampuan lainnya yakni mengolah dan menerjemahkan informasi sehingga berbagai proses\, seperti tindak lanjut perhitungan aktuaria\, perancangan strategi investasi\, evaluasi kinerja investasi\, kebijakan tata kelola\, serta pengelolaan sumber daya manusia dan perumusan strategi dan kebijakan manajemen sumber daya manusia dapat terlaksana sesuai kebutuhan Dana Pensiun dan mengikuti peraturan yang berlaku. Selanjutnya\, kemampuan yang dibutuhkan yakni bekerja sama dan melakukan komunikasi dengan berbagai pihak\, baik internal maupun eksternal\, dalam penyusunan laporan Dana Pensiun sehingga laporan yang dihasilkan sesuai ketentuan dan kebutuhan Dana Pensiun. \nSASARAN PESERTA \n\nDirektur Utama\,\nDirektur Investasi\,\nDirektur Keuangan\,\nDirektur Kepensiunan dan Umum\,\nDirektur Sumber Daya Manusia\, serta\nDirektur Operasi.\n\n  \nInformasi Pelatihan\n🕒 **Durasi**: 2 Hari\n💰 **Biaya**: 4.500.00\n📜 **Jenis**: Sertifikasi \n— \nWaktu dan Tempat\n🗓 **Tanggal**:  15-16 Desember 2026\n⏰ **Waktu**: 09.00 – 16.00 WIB\n📍 **Lokasi**: Wisma 46 Kota BNI\, Jl. Jenderal Sudirman Kav. 1 Jakarta Pusat \n\nDAFTAR SEKARANG
URL:https://training.adpi.or.id/event/kkni-jenjang-7-bidang-dana-pensiun-desember-2026/
LOCATION:ADPI\, Wisma 46 - Kota BNI\, Jl. Jenderal Sudirman No.Kav. 1 Lantai 3 Suite 3.05\, Karet Tengsin\, Tanah Abang\, Jakarta Pusat\, Jakarta\, Jakarta\, 10220\, Indonesia
CATEGORIES:Workshop & Diklat
ATTACH;FMTTYPE=image/jpeg:https://training.adpi.or.id/wp-content/uploads/2025/09/2157.jpg
ORGANIZER;CN="ADPI":MAILTO:diklat@adpi.or.id
END:VEVENT
BEGIN:VEVENT
DTSTART;TZID=Asia/Jakarta:20261217T090000
DTEND;TZID=Asia/Jakarta:20261218T160000
DTSTAMP:20260420T111244
CREATED:20260304T035140Z
LAST-MODIFIED:20260304T035140Z
UID:563-1797498000-1797609600@training.adpi.or.id
SUMMARY:KKNI Jenjang 6C Bidang Dana Pensiun  Sub Bidang Pengawasan Dana Pensiun - Desember 2026
DESCRIPTION:sesuai dengan ketentuan Surat Edaran OJK Nomor KEP-2/D.02/2024 tanggal 3 Januari 2024 tentang Kerangka Kualifikasi Nasional Indonesia Bidang Dana Pensiun mengatur tentang kewajiban bagi setiap insan dana pensiun wajib memiliki sertifikat kompetensi bidang dana pensiun sesuai dengan jenjang kerja masing-masing. Hal ini menjadi konsen OJK dalam meningkatkan kompetensi dalam pengelolaan Dana Pensiun agar pengelolaan Dana Pensiun aman\, maksimal dan sesuai dengan ketentuan yang berlaku. \nKualifikasi ini mencakup kemampuan dalam mengaplikasikan bidang keahlian dan memanfaatkan ilmu pengetahuan\, teknologi\, dan/atau seni pada Dana Pensiun secara umum dalam penyelesaian masalah; mampu beradaptasi terhadap situasi yang dihadapi; serta menguasai konsep teoretis di bidang Dana Pensiun secara umum dan konsep teoretis bagian khusus dalam bidang Dana Pensiun secara mendalam. Selain itu\, memiliki kemampuan untuk mengidentifikasi dan menganalisis data dan informasi\, sehingga kinerja investasi dapat dievaluasi sesuai kebutuhan\, serta pengendalian dan pengelolaan tata kelola dapat terlaksana sesuai ketentuan. Selanjutnya\, kemampuan lainnya yakni mengolah dan menerjemahkan informasi sehingga rencana audit tahunan dapat disusun sesuai kebutuhan\, tindak lanjut hasil audit dapat diimplementasikan sesuai prosedur\, serta laporan Dana Pensiun dapat diinterpretasikan dengan baik dan benar. \nSASARAN PESERTA \n\nDewan Pengawas\nCalon Dewan Pengawas\n\n  \nTEMPAT \nWisma 46 Kota BNI\, Jl. Jenderal Sudirman Kav. 1 Jakarta Pusat \nInformasi Pelatihan\n🕒 **Durasi**: 2 Hari\n💰 **Investasi**: 4.000.000\n📜 **Jenis**: Sertifikasi \n— \nWaktu dan Tempat\n🗓 **Tanggal**:  17-18 Desember 2026\n⏰ **Waktu**: 09.00 – 16.00 WIB\n📍 **Lokasi**: Wisma 46 Kota BNI\, Jl. Jenderal Sudirman Kav. 1 Jakarta Pusat \n\nDAFTAR SEKARANG
URL:https://training.adpi.or.id/event/kkni-jenjang-6c-bidang-dana-pensiun-sub-bidang-pengawasan-dana-pensiun-desember-2026/
LOCATION:ADPI\, Wisma 46 - Kota BNI\, Jl. Jenderal Sudirman No.Kav. 1 Lantai 3 Suite 3.05\, Karet Tengsin\, Tanah Abang\, Jakarta Pusat\, Jakarta\, Jakarta\, 10220\, Indonesia
CATEGORIES:Workshop & Diklat
ATTACH;FMTTYPE=image/jpeg:https://training.adpi.or.id/wp-content/uploads/2025/09/7120.jpg
ORGANIZER;CN="ADPI":MAILTO:diklat@adpi.or.id
END:VEVENT
END:VCALENDAR