BEGIN:VCALENDAR
VERSION:2.0
PRODID:-//training.adpi.or.id - ECPv6.15.5//NONSGML v1.0//EN
CALSCALE:GREGORIAN
METHOD:PUBLISH
X-WR-CALNAME:training.adpi.or.id
X-ORIGINAL-URL:https://training.adpi.or.id
X-WR-CALDESC:Events for training.adpi.or.id
REFRESH-INTERVAL;VALUE=DURATION:PT1H
X-Robots-Tag:noindex
X-PUBLISHED-TTL:PT1H
BEGIN:VTIMEZONE
TZID:Asia/Jakarta
BEGIN:STANDARD
TZOFFSETFROM:+0700
TZOFFSETTO:+0700
TZNAME:WIB
DTSTART:20260101T000000
END:STANDARD
END:VTIMEZONE
BEGIN:VEVENT
DTSTART;TZID=Asia/Jakarta:20260707T090000
DTEND;TZID=Asia/Jakarta:20260709T160000
DTSTAMP:20260420T044255
CREATED:20260311T035724Z
LAST-MODIFIED:20260311T035724Z
UID:588-1783414800-1783612800@training.adpi.or.id
SUMMARY:Manajemen Umum Dana Pensiun – Juli 2026
DESCRIPTION:PENDAHULUAN \nDengan diterbitkannya Undang-undang No. 4 Tahun 2023\, tentang Pengembangan dan Penguatan Sektor Jasa Keuangan (UU P2SK)\, mendorong stakeholder Dana Pensiun untuk lebih mengembangkan pemahaman dan pengetahuan terkait dengan regulasi-regulasi terkini serta pengelolaan Dana Pensiun yang baik dengan memperhatikan risiko yang ada. Hal ini selaras dengan pengembangan Industri Dana Pensiun yang diharapkan semakin maju dengan didukung oleh SDM Dana Pensiun yang berkualitas. \nPada Pelatihan ini Perkumpulan ADPI memberikan materi terkait Peraturan perundangan yang berlaku\, dan hal-hal lain yang terkait dengan pengelolaan Dana Pensiun antara lain pengetahuan mengenai disain dana pensiun\, pengetahuan mengenai akuntabilitas dana pensiun\, pengetahuan mengenai manajemen & tata kelola dana pensiun. . Pelatihan ini dirancang untuk membekali peserta tentang pengetahuan dasar Dana Pensiun agar peserta paham terkait dengan pengelolaan Dana Pensiun sesuai dengan maksud dan tujuan Dana Pensiun tersebut. \nSASARAN PESERTA \n\nPengurus dan Calon Pengurus Dana Pensiun\nPengawas dan Calon Pengawas Dana Pensiun\nStaf dan Pegawai Dana Pensiun\nPeserta yang berminat mengetahui tentang Dana Pensiun\n\nInformasi Pelatihan\n🕒 **Durasi**: 3 Hari\n💰 **Biaya**: 5.500.00\n📜 **Jenis**: Non Sertifikasi \n— \nWaktu dan Tempat\n🗓 **Tanggal**:  7-9 Juli 2026\n⏰ **Waktu**: 09.00 – 16.00 WIB\n📍 **Lokasi**: Wisma 46 Kota BNI\, Jl. Jenderal Sudirman Kav. 1 Jakarta Pusat \n\nDAFTAR SEKARANG
URL:https://training.adpi.or.id/event/manajemen-umum-dana-pensiun-juli-2026/
LOCATION:ADPI\, Wisma 46 - Kota BNI\, Jl. Jenderal Sudirman No.Kav. 1 Lantai 3 Suite 3.05\, Karet Tengsin\, Tanah Abang\, Jakarta Pusat\, Jakarta\, Jakarta\, 10220\, Indonesia
CATEGORIES:Workshop & Diklat
ATTACH;FMTTYPE=image/jpeg:https://training.adpi.or.id/wp-content/uploads/2025/09/2157.jpg
ORGANIZER;CN="ADPI":MAILTO:diklat@adpi.or.id
END:VEVENT
BEGIN:VEVENT
DTSTART;TZID=Asia/Jakarta:20260714T090000
DTEND;TZID=Asia/Jakarta:20260715T160000
DTSTAMP:20260420T044255
CREATED:20260311T044026Z
LAST-MODIFIED:20260311T044026Z
UID:602-1784019600-1784131200@training.adpi.or.id
SUMMARY:Manajemen Investasi Dana Pensiun – Jul 2026
DESCRIPTION:PENDAHULUAN \nlnvestasi merupakan inti dalam pengelolaan Dana Pensiun\, dan dengan semakin berkembangnya instrumen investasi di pasar uang\, pasar modal\, serta instrumen investasi lainnya di sektor riil\, maka perlu pengetahuan terkait dengan investasi baik itu ketentuan yang berlaku maupun pengetahuan atas masing-masing instrumen yang ada. Program MIDP ini memberikan informasi yang terkait dengan regulasi\, pihak-pihak yang terkait dan penjelasan atas instrumen investasi yang diperkenankan. \nPelatihan ini dirancang untuk membekali peserta tentang Manajemen lnvestasi Dana Pensiun (MIDP) sebagai pengetahuan dasar investasi dana pensiun agar dapat mengelola Dana Pensiun sesuai dengan regulasi tersebut. \nSASARAN PESERTA \n\nPengurus dan Calon Pengurus Dana Pensiun.\nPengawas dan Calon Pengawas Dana Pensiun Pemberi Kerja.\nStaf dan Pegawai Dana Pensiun\nPengamat\, Akademisi\, dan Praktisi Dana Pensiun.\n\n  \nInformasi Pelatihan\n🕒 **Durasi**: 2 Hari\n💰 **Biaya**: 4.000.00\n📜 **Jenis**: Non Sertifikasi \n— \nWaktu dan Tempat\n🗓 **Tanggal**:  14-15 Juli 2026\n⏰ **Waktu**: 09.00 – 16.00 WIB\n📍 **Lokasi**: Wisma 46 Kota BNI\, Jl. Jenderal Sudirman Kav. 1 Jakarta Pusat \n\nDAFTAR SEKARANG
URL:https://training.adpi.or.id/event/manajemen-investasi-dana-pensiun-jul-2026/
LOCATION:ADPI\, Wisma 46 - Kota BNI\, Jl. Jenderal Sudirman No.Kav. 1 Lantai 3 Suite 3.05\, Karet Tengsin\, Tanah Abang\, Jakarta Pusat\, Jakarta\, Jakarta\, 10220\, Indonesia
CATEGORIES:Workshop & Diklat
ATTACH;FMTTYPE=image/jpeg:https://training.adpi.or.id/wp-content/uploads/2025/09/2157.jpg
ORGANIZER;CN="ADPI":MAILTO:diklat@adpi.or.id
END:VEVENT
BEGIN:VEVENT
DTSTART;TZID=Asia/Jakarta:20260715T090000
DTEND;TZID=Asia/Jakarta:20260716T160000
DTSTAMP:20260420T044255
CREATED:20260311T061840Z
LAST-MODIFIED:20260311T061840Z
UID:614-1784106000-1784217600@training.adpi.or.id
SUMMARY:Manajemen Pendanaan dan Kepesertaan Dana Pensiun – Juli 2026
DESCRIPTION:PENDAHULUAN \nSesuai dengan perkembangan informasi secara digital yang semakin pesat\, dan adanya ketentuan terkait dengan kebijakan dan prosedur teknologi. Selain itu adanya ketentuan terkait dengan Teknologi lnformasi Dana Pensiun yaitu P0JK No. 4/POJK.05/2021 tentang Penerapan Manajemen Risiko Dalam Penggunaan Teknologi lnformasi Oleh Lembaga Jasa Keuangan Non-Bank yang intinya mengatur mengenai manajemen risiko dalam penggunaan teknologi informasi (MRTI) dimana salah satunya mengatur kewajiban LJKNB untuk memiliki kebijakan dan prosedur penggunaan teknologi informasi meliputi beberapa aspek\, misalkan aspek manajemen\, aspek pengembangan dan pengadaan dan beberapa aspek lainnya. Hal ini memperlihatkan bahwa perkembangan Teknologi lnformasi khususnya pada dana pensiun menjadi hal yang sangat penting dalam pengelolaan dana pensiun\, salah satu tujuannya adalah dapat meningkatkan produktivitas dan bisnis Lembaga Jasa Keuangan Nonbank (LJKNB). Dalam workshop ini akan disampaikan informasi dan materi yang dapat memberikan pemahaman serta penerapan terkait ketentuan\, pengelolaan sistem teknologi informasi dana pensiun. \nSASARAN PESERTA \n\nPengurus dan calon pengurus Dana Pensiun yang membawahi bidang Tl\nPegawai Dana Pensiun\n\n  \nInformasi Pelatihan\n🕒 **Durasi**: 2 Hari\n💰 **Biaya**: 4.000.00\n📜 **Jenis**: Non Sertifikasi \n— \nWaktu dan Tempat\n🗓 **Tanggal**:  15-16 Juli 2026\n⏰ **Waktu**: 09.00 – 16.00 WIB\n📍 **Lokasi**: Wisma 46 Kota BNI\, Jl. Jenderal Sudirman Kav. 1 Jakarta Pusat \n\nDAFTAR SEKARANG
URL:https://training.adpi.or.id/event/manajemen-pendanaan-dan-kepesertaan-dana-pensiun-juli-2026/
LOCATION:ADPI\, Wisma 46 - Kota BNI\, Jl. Jenderal Sudirman No.Kav. 1 Lantai 3 Suite 3.05\, Karet Tengsin\, Tanah Abang\, Jakarta Pusat\, Jakarta\, Jakarta\, 10220\, Indonesia
CATEGORIES:Workshop & Diklat
ATTACH;FMTTYPE=image/jpeg:https://training.adpi.or.id/wp-content/uploads/2025/09/2157.jpg
ORGANIZER;CN="ADPI":MAILTO:diklat@adpi.or.id
END:VEVENT
BEGIN:VEVENT
DTSTART;TZID=Asia/Jakarta:20260721T090000
DTEND;TZID=Asia/Jakarta:20260722T160000
DTSTAMP:20260420T044255
CREATED:20260303T064612Z
LAST-MODIFIED:20260303T064612Z
UID:522-1784624400-1784736000@training.adpi.or.id
SUMMARY:KKNI Jenjang 7 Bidang Dana Pensiun – Juli 2026
DESCRIPTION:PENDAHULUAN \nSesuai dengan ketentuan Surat Edaran OJK Nomor KEP-2/D.02/2024 tanggal 3 Januari 2024 tentang Kerangka Kualifikasi Nasional Indonesia Bidang Dana Pensiun mengatur tentang kewajiban bagi setiap insan dana pensiun wajib memiliki sertifikat kompetensi bidang dana pensiun sesuai dengan jenjang kerja masing-masing. Hal ini menjadi konsen OJK dalam meningkatkan kompetensi dalam pengelolaan Dana Pensiun agar pengelolaan Dana Pensiun aman\, maksimal dan sesuai dengan ketentuan yang berlaku. \nKualifikasi ini mencakup kemampuan untuk merencanakan dan mengelola sumber daya Dana Pensiun di bawah tanggung jawabnya\, serta melakukan riset dan mengambil keputusan strategis dengan akuntabilitas dan tanggung jawab penuh atas semua aspek Dana Pensiun yang berada di bawah tanggung jawab bidang keahliannya. Selain itu\, memiliki kemampuan untuk mengidentifikasi dan menganalisis data dan informasi sehingga berbagai alternatif strategi Dana Pensiun dapat disusun dan ditentukan sesuai tujuan Dana Pensiun\, serta implementasi internalisasi budaya kerja dan evaluasinya dapat terlaksana sesuai prosedur. \nSelanjutnya\, kemampuan lainnya yakni mengolah dan menerjemahkan informasi sehingga berbagai proses\, seperti tindak lanjut perhitungan aktuaria\, perancangan strategi investasi\, evaluasi kinerja investasi\, kebijakan tata kelola\, serta pengelolaan sumber daya manusia dan perumusan strategi dan kebijakan manajemen sumber daya manusia dapat terlaksana sesuai kebutuhan Dana Pensiun dan mengikuti peraturan yang berlaku. Selanjutnya\, kemampuan yang dibutuhkan yakni bekerja sama dan melakukan komunikasi dengan berbagai pihak\, baik internal maupun eksternal\, dalam penyusunan laporan Dana Pensiun sehingga laporan yang dihasilkan sesuai ketentuan dan kebutuhan Dana Pensiun. \nSASARAN PESERTA \n\nDirektur Utama\,\nDirektur Investasi\,\nDirektur Keuangan\,\nDirektur Kepensiunan dan Umum\,\nDirektur Sumber Daya Manusia\, serta\nDirektur Operasi.\n\n  \nInformasi Pelatihan\n🕒 **Durasi**: 2 Hari\n💰 **Biaya**: 4.500.00\n📜 **Jenis**: Sertifikasi \n— \nWaktu dan Tempat\n🗓 **Tanggal**:  21-22 Juli 2026\n⏰ **Waktu**: 09.00 – 16.00 WIB\n📍 **Lokasi**: Wisma 46 Kota BNI\, Jl. Jenderal Sudirman Kav. 1 Jakarta Pusat \n\nDAFTAR SEKARANG
URL:https://training.adpi.or.id/event/kkni-jenjang-7-bidang-dana-pensiun-juli-2026/
LOCATION:ADPI\, Wisma 46 - Kota BNI\, Jl. Jenderal Sudirman No.Kav. 1 Lantai 3 Suite 3.05\, Karet Tengsin\, Tanah Abang\, Jakarta Pusat\, Jakarta\, Jakarta\, 10220\, Indonesia
CATEGORIES:Workshop & Diklat
ATTACH;FMTTYPE=image/jpeg:https://training.adpi.or.id/wp-content/uploads/2025/09/2157.jpg
ORGANIZER;CN="ADPI":MAILTO:diklat@adpi.or.id
END:VEVENT
BEGIN:VEVENT
DTSTART;TZID=Asia/Jakarta:20260723T090000
DTEND;TZID=Asia/Jakarta:20260724T160000
DTSTAMP:20260420T044255
CREATED:20260304T025814Z
LAST-MODIFIED:20260304T030935Z
UID:545-1784797200-1784908800@training.adpi.or.id
SUMMARY:KKNI Jenjang 6C Bidang Dana Pensiun  Sub Bidang Pengawasan Dana Pensiun - Juli 2026
DESCRIPTION:sesuai dengan ketentuan Surat Edaran OJK Nomor KEP-2/D.02/2024 tanggal 3 Januari 2024 tentang Kerangka Kualifikasi Nasional Indonesia Bidang Dana Pensiun mengatur tentang kewajiban bagi setiap insan dana pensiun wajib memiliki sertifikat kompetensi bidang dana pensiun sesuai dengan jenjang kerja masing-masing. Hal ini menjadi konsen OJK dalam meningkatkan kompetensi dalam pengelolaan Dana Pensiun agar pengelolaan Dana Pensiun aman\, maksimal dan sesuai dengan ketentuan yang berlaku. \nKualifikasi ini mencakup kemampuan dalam mengaplikasikan bidang keahlian dan memanfaatkan ilmu pengetahuan\, teknologi\, dan/atau seni pada Dana Pensiun secara umum dalam penyelesaian masalah; mampu beradaptasi terhadap situasi yang dihadapi; serta menguasai konsep teoretis di bidang Dana Pensiun secara umum dan konsep teoretis bagian khusus dalam bidang Dana Pensiun secara mendalam. Selain itu\, memiliki kemampuan untuk mengidentifikasi dan menganalisis data dan informasi\, sehingga kinerja investasi dapat dievaluasi sesuai kebutuhan\, serta pengendalian dan pengelolaan tata kelola dapat terlaksana sesuai ketentuan. Selanjutnya\, kemampuan lainnya yakni mengolah dan menerjemahkan informasi sehingga rencana audit tahunan dapat disusun sesuai kebutuhan\, tindak lanjut hasil audit dapat diimplementasikan sesuai prosedur\, serta laporan Dana Pensiun dapat diinterpretasikan dengan baik dan benar. \nSASARAN PESERTA \n\nDewan Pengawas\nCalon Dewan Pengawas\n\n  \nTEMPAT \nWisma 46 Kota BNI\, Jl. Jenderal Sudirman Kav. 1 Jakarta Pusat \nInformasi Pelatihan\n🕒 **Durasi**: 2 Hari\n💰 **Investasi**: 4.000.000\n📜 **Jenis**: Sertifikasi \n— \nWaktu dan Tempat\n🗓 **Tanggal**:  23-24 Juli 2026\n⏰ **Waktu**: 09.00 – 16.00 WIB\n📍 **Lokasi**: Wisma 46 Kota BNI\, Jl. Jenderal Sudirman Kav. 1 Jakarta Pusat \n\nDAFTAR SEKARANG
URL:https://training.adpi.or.id/event/kkni-jenjang-6c-bidang-dana-pensiun-sub-bidang-pengawasan-dana-pensiun-juli-2026/
LOCATION:ADPI\, Wisma 46 - Kota BNI\, Jl. Jenderal Sudirman No.Kav. 1 Lantai 3 Suite 3.05\, Karet Tengsin\, Tanah Abang\, Jakarta Pusat\, Jakarta\, Jakarta\, 10220\, Indonesia
CATEGORIES:Workshop & Diklat
ATTACH;FMTTYPE=image/jpeg:https://training.adpi.or.id/wp-content/uploads/2025/09/7120.jpg
ORGANIZER;CN="ADPI":MAILTO:diklat@adpi.or.id
END:VEVENT
BEGIN:VEVENT
DTSTART;TZID=Asia/Jakarta:20260728T090000
DTEND;TZID=Asia/Jakarta:20260729T160000
DTSTAMP:20260420T044255
CREATED:20260311T031051Z
LAST-MODIFIED:20260311T031051Z
UID:577-1785229200-1785340800@training.adpi.or.id
SUMMARY:KKNI Jenjang 5 Bidang Dana Pensiun – Juli 2026
DESCRIPTION:PENDAHULUAN \nSesuai dengan ketentuan Surat Edaran OJK Nomor KEP-2/D.02/2024 tanggal 3 Januari 2024 tentang Kerangka Kualifikasi Nasional Indonesia Bidang Dana Pensiun mengatur tentang kewajiban bagi setiap insan dana pensiun wajib memiliki sertifikat kompetensi bidang dana pensiun sesuai dengan jenjang kerja masing-masing. Hal ini menjadi konsen OJK dalam meningkatkan kompetensi dalam pengelolaan Dana Pensiun agar pengelolaan Dana Pensiun aman\, maksimal dan sesuai dengan ketentuan yang berlaku. \nKualifikasi ini mencakup kemampuan untuk merencanakan dan mengelola sumber daya Dana Pensiun di bawah tanggung jawabnya\, serta melakukan riset dan mengambil keputusan strategis dengan akuntabilitas dan tanggung jawab penuh atas semua aspek Dana Pensiun yang berada di bawah tanggung jawab bidang keahliannya. Selain itu\, memiliki kemampuan untuk mengidentifikasi dan menganalisis data dan informasi sehingga berbagai alternatif strategi Dana Pensiun dapat disusun dan ditentukan sesuai tujuan Dana Pensiun\, serta implementasi internalisasi budaya kerja dan evaluasinya dapat terlaksana sesuai prosedur. \nSelanjutnya\, kemampuan lainnya yakni mengolah dan menerjemahkan informasi sehingga berbagai proses\, seperti tindak lanjut perhitungan aktuaria\, perancangan strategi investasi\, evaluasi kinerja investasi\, kebijakan tata kelola\, serta pengelolaan sumber daya manusia dan perumusan strategi dan kebijakan manajemen sumber daya manusia dapat terlaksana sesuai kebutuhan Dana Pensiun dan mengikuti peraturan yang berlaku. Selanjutnya\, kemampuan yang dibutuhkan yakni bekerja sama dan melakukan komunikasi dengan berbagai pihak\, baik internal maupun eksternal\, dalam penyusunan laporan Dana Pensiun sehingga laporan yang dihasilkan sesuai ketentuan dan kebutuhan Dana Pensiun. \nSASARAN PESERTA \n\nDirektur Utama\,\nDirektur Investasi\,\nDirektur Keuangan\,\nDirektur Kepensiunan dan Umum\,\nDirektur Sumber Daya Manusia\, serta\nDirektur Operasi.\n\n  \nInformasi Pelatihan\n🕒 **Durasi**: 2 Hari\n💰 **Biaya**: 3.500.00\n📜 **Jenis**: Sertifikasi \n— \nWaktu dan Tempat\n🗓 **Tanggal**:  28-29 Juli 2026\n⏰ **Waktu**: 09.00 – 16.00 WIB\n📍 **Lokasi**: Wisma 46 Kota BNI\, Jl. Jenderal Sudirman Kav. 1 Jakarta Pusat \n\nDAFTAR SEKARANG
URL:https://training.adpi.or.id/event/kkni-jenjang-5-bidang-dana-pensiun-juli-2026/
LOCATION:ADPI\, Wisma 46 - Kota BNI\, Jl. Jenderal Sudirman No.Kav. 1 Lantai 3 Suite 3.05\, Karet Tengsin\, Tanah Abang\, Jakarta Pusat\, Jakarta\, Jakarta\, 10220\, Indonesia
CATEGORIES:Workshop & Diklat
ATTACH;FMTTYPE=image/jpeg:https://training.adpi.or.id/wp-content/uploads/2025/09/2157.jpg
ORGANIZER;CN="ADPI":MAILTO:diklat@adpi.or.id
END:VEVENT
BEGIN:VEVENT
DTSTART;TZID=Asia/Jakarta:20260729T090000
DTEND;TZID=Asia/Jakarta:20260730T160000
DTSTAMP:20260420T044255
CREATED:20260311T070144Z
LAST-MODIFIED:20260311T070144Z
UID:622-1785315600-1785427200@training.adpi.or.id
SUMMARY:Penyusunan Rencana Bisnis Tahunan Dana Pensiun – Juli 2026
DESCRIPTION:PENDAHULUAN \nSesuai dengan P0JK No.24/POJK.05/2019 Tentang Rencana Bisnis Lembaga Jasa Keuangan Non Bank\, maka diperlukan tata cara dalam menyusunan Rencana Bisnis Dana Pensiun. Dimana dalam penyusunanya tetap harus memperhatikan ketentuan-ketentuan antara lain P0JK No. 01/POJK.05/2015 tentang Penerapan Manajemen Risiko bagi Lembaga Jasa Keuangan Non-Bank\, P0JK No.3/ POJK.05/2015 tentang lnvestasi Dana Pensiun\, POJK No.15/ POJK.05/2019 tentang Tata Kelola Dana Pensiun\, P0JK No.5/P0JK.05.2018 tentang Laporan Berkala Dana Pensiun\, serta SE OJK No. 10/SE 0JK.05/2016 tentang Pedoman Penerapan Manajemen Risiko dan Laporan Hasil Penilaian Sendiri Penerapan Manajemen Risiko bagi LJKNB. \nPelatihan ini dirancang untuk membekali peserta bagaimana menyusun Rencana Bisnis Dana Pensiun yang realistis dan sesuai dengan ketentuan yang berlaku\, dan yang tidak kalah pentingnya adalah tetap memegang prinsip kehati-hatian. \nSASARAN PESERTA \n\nPengurus Dana Pensiun Pemberi Kerja.\nPelaksana Tugas Pengurus Dana Pensiun Lembaga Keuangan.\nPengawas Dana Pensiun.\nStaf dan Pegawai Dana Pensiun yang menangani lnvestasi\, Kepesertaan\, dan/atau Keuangan Dana Pensiun\n\nInformasi Pelatihan\n🕒 **Durasi**: 2 Hari\n💰 **Biaya**: 4.000.00\n📜 **Jenis**: Sertifikasi \n— \nWaktu dan Tempat\n🗓 **Tanggal**:  29-30 Juli 2026\n⏰ **Waktu**: 09.00 – 16.00 WIB\n📍 **Lokasi**: Wisma 46 Kota BNI\, Jl. Jenderal Sudirman Kav. 1 Jakarta Pusat \n\nDAFTAR SEKARANG
URL:https://training.adpi.or.id/event/penyusunan-rencana-bisnis-tahunan-dana-pensiun-juli-2026/
LOCATION:ADPI\, Wisma 46 - Kota BNI\, Jl. Jenderal Sudirman No.Kav. 1 Lantai 3 Suite 3.05\, Karet Tengsin\, Tanah Abang\, Jakarta Pusat\, Jakarta\, Jakarta\, 10220\, Indonesia
CATEGORIES:Workshop & Diklat
ATTACH;FMTTYPE=image/jpeg:https://training.adpi.or.id/wp-content/uploads/2025/09/2157.jpg
ORGANIZER;CN="ADPI":MAILTO:diklat@adpi.or.id
END:VEVENT
END:VCALENDAR